BEGIN:VCALENDAR
VERSION:2.0
PRODID:-//NYC Open Data Week - ECPv6.15.20//NONSGML v1.0//EN
CALSCALE:GREGORIAN
METHOD:PUBLISH
X-ORIGINAL-URL:https://opendataweek.nyc
X-WR-CALDESC:Events for NYC Open Data Week
REFRESH-INTERVAL;VALUE=DURATION:PT1H
X-Robots-Tag:noindex
X-PUBLISHED-TTL:PT1H
BEGIN:VTIMEZONE
TZID:America/New_York
BEGIN:DAYLIGHT
TZOFFSETFROM:-0500
TZOFFSETTO:-0400
TZNAME:EDT
DTSTART:20250309T070000
END:DAYLIGHT
BEGIN:STANDARD
TZOFFSETFROM:-0400
TZOFFSETTO:-0500
TZNAME:EST
DTSTART:20251102T060000
END:STANDARD
BEGIN:DAYLIGHT
TZOFFSETFROM:-0500
TZOFFSETTO:-0400
TZNAME:EDT
DTSTART:20260308T070000
END:DAYLIGHT
BEGIN:STANDARD
TZOFFSETFROM:-0400
TZOFFSETTO:-0500
TZNAME:EST
DTSTART:20261101T060000
END:STANDARD
BEGIN:DAYLIGHT
TZOFFSETFROM:-0500
TZOFFSETTO:-0400
TZNAME:EDT
DTSTART:20270314T070000
END:DAYLIGHT
BEGIN:STANDARD
TZOFFSETFROM:-0400
TZOFFSETTO:-0500
TZNAME:EST
DTSTART:20271107T060000
END:STANDARD
END:VTIMEZONE
BEGIN:VEVENT
DTSTART;TZID=America/New_York:20260327T120000
DTEND;TZID=America/New_York:20260327T130000
DTSTAMP:20260424T190345
CREATED:20260225T170743Z
LAST-MODIFIED:20260318T144819Z
UID:10001851-1774612800-1774616400@opendataweek.nyc
SUMMARY:Hands-On Exploration of Child and Adolescent Mental Health with the Healthy Brain Network
DESCRIPTION:The Healthy Brain Network (HBN) is a large community initiative and open data project run by the Child Mind Institute (CMI). Its goal is to better understand mental health and learning in children and adolescents in New York City. Families can take part in the clinical and research study if they have concerns about their child’s mental health or learning to receive a free\, comprehensive clinical evaluation. Over the past decade\, the Healthy Brain Network has collected and openly shared anonymized data from more than 4\,000 children and adolescents. This information includes behavioral\, clinical\, and brain-based data\, and is made freely available to researchers\, educators\, and the public to support new discoveries in mental health and psychiatric research. \nIn this hands-on session\, the CMI data team will introduce the openly accessible Healthy Brain Network (HBN) datasets with a focus on wristwatch actigraphy data\, which consists of continuous measurements collected from a wearable device worn on the wrist\, similar to a fitness tracker. These data provide insights into daily activity patterns and sleep over time.\nAttendees will learn how to download\, explore\, visualize\, and analyze actigraphy signals using wristpy\, an open-source Python package developed by CMI. Through guided activities\, attendees will discover how these data can be used to uncover patterns over time and generate insights into behavior and mental health. This virtual class/training aims to spark curiosity and empower individuals to explore and engage with HBN data.
URL:https://opendataweek.nyc/event/hands-on-exploration-of-child-and-adolescent-mental-health-with-the-healthy-brain-network/
CATEGORIES:Class / Training
ATTACH;FMTTYPE=image/jpeg:https://opendataweek.nyc/wp-content/uploads/2026/02/E41_Hands-On-Exploration-of-Child-and-Adolescent-Mental-Health-with-the-Healthy-Brain-Network.jpg
LOCATION:https://opendataweek.nyc/event/hands-on-exploration-of-child-and-adolescent-mental-health-with-the-healthy-brain-network/
END:VEVENT
END:VCALENDAR