BEGIN:VCALENDAR
VERSION:2.0
PRODID:-//NYC Open Data Week - ECPv6.15.20//NONSGML v1.0//EN
CALSCALE:GREGORIAN
METHOD:PUBLISH
X-ORIGINAL-URL:https://opendataweek.nyc
X-WR-CALDESC:Events for NYC Open Data Week
REFRESH-INTERVAL;VALUE=DURATION:PT1H
X-Robots-Tag:noindex
X-PUBLISHED-TTL:PT1H
BEGIN:VTIMEZONE
TZID:America/New_York
BEGIN:DAYLIGHT
TZOFFSETFROM:-0500
TZOFFSETTO:-0400
TZNAME:EDT
DTSTART:20250309T070000
END:DAYLIGHT
BEGIN:STANDARD
TZOFFSETFROM:-0400
TZOFFSETTO:-0500
TZNAME:EST
DTSTART:20251102T060000
END:STANDARD
BEGIN:DAYLIGHT
TZOFFSETFROM:-0500
TZOFFSETTO:-0400
TZNAME:EDT
DTSTART:20260308T070000
END:DAYLIGHT
BEGIN:STANDARD
TZOFFSETFROM:-0400
TZOFFSETTO:-0500
TZNAME:EST
DTSTART:20261101T060000
END:STANDARD
BEGIN:DAYLIGHT
TZOFFSETFROM:-0500
TZOFFSETTO:-0400
TZNAME:EDT
DTSTART:20270314T070000
END:DAYLIGHT
BEGIN:STANDARD
TZOFFSETFROM:-0400
TZOFFSETTO:-0500
TZNAME:EST
DTSTART:20271107T060000
END:STANDARD
END:VTIMEZONE
BEGIN:VEVENT
DTSTART;TZID=America/New_York:20260324T140000
DTEND;TZID=America/New_York:20260324T180000
DTSTAMP:20260424T224438
CREATED:20260307T144151Z
LAST-MODIFIED:20260307T144151Z
UID:10001938-1774360800-1774375200@opendataweek.nyc
SUMMARY:NYC PIT Pop Up: CUNY Open Data Takeover Day Two
DESCRIPTION:As part of NYC Open Data Week 2026\, the CUNY Public Interest Technology (PIT) Lab will host a week-long Open Data Takeover of the NYC PIT Pop-Up at the Oculus / World Trade Center. The activation advances Open Data Week’s goals of accessibility\, civic learning\, and practical use of open data by bringing open data projects into a highly visible\, public-facing space. Attendees can drop in at any time during the hours below for a demonstration of the tool and to speak with the presenter. Most of the demos will also be streamed live from the Pop-Up on its Twitch (https://www.twitch.tv/cunypitlab). Inside the Oculus\, the Pop-Up is located on the Main Floor C2\, in the South Concourse\, at Shop #53 (next to M.A.C. Cosmetics). View the full PIT Lab schedule. No RSVP needed\, just stop by! \n[2pm-6pm]\nNate Cooper – Space Apps Showcase\nIn this session\, learn about the NASA Space Apps Challenge\, NASA’s global data hackathon. Each year NASA posts 11 challenges to use its data in unique ways over the course of a weekend. Last year\, there were over 100k participants globally. You’ll meet participants from last year’s hackathon including winning teams\, judges\, and mentors from the NYC local site. What does it take to turn an open data set into something useful\, fun\, and engaging? Learn what happened\, what projects are still being developed\, and how to build your own solutions using NASA’s data. Following a presentation\, we’ll do a hands-on workshop so you can learn how to build your own open data app.
URL:https://opendataweek.nyc/event/nyc-pit-pop-up-cuny-open-data-takeover-day-two/
LOCATION:Oculus World Trade Center\, 185 Greenwich Street\, New York\, New York\, 10006\, United States of America
CATEGORIES:Exhibition
ATTACH;FMTTYPE=image/jpeg:https://opendataweek.nyc/wp-content/uploads/2026/03/PIT-Pop-Up-logo-3rd-draft-drop-shadow-outline.jpg
GEO:40.7116150664;-74.0112759014
X-APPLE-STRUCTURED-LOCATION;VALUE=URI;X-ADDRESS=Oculus World Trade Center 185 Greenwich Street New York New York 10006 United States of America;X-APPLE-RADIUS=500;X-TITLE=185 Greenwich Street:geo:-74.0112759014,40.7116150664
END:VEVENT
BEGIN:VEVENT
DTSTART;TZID=America/New_York:20260324T180000
DTEND;TZID=America/New_York:20260324T193000
DTSTAMP:20260424T224438
CREATED:20260312T233257Z
LAST-MODIFIED:20260316T140017Z
UID:10001932-1774375200-1774380600@opendataweek.nyc
SUMMARY:Maples\, Oaks\, and More: The NYC Tree Map as a Stewardship Tool
DESCRIPTION:Do you look up as you walk through our city\, curious about the trees? Join this interactive session exploring the NYC Tree Map\, a free online tool developed by NYC Parks. We’ll hear from the deputy director of Digital Media at NYC Parks\, Tom Hughes\, about how the NYC Tree Map was designed and developed. You’ll then have time to use desktop computers to explore the NYC Tree Map and become familiar with navigating its features. We’ll conclude by hearing from members of the Jackson Heights Beautification Group Tree LC Team about how they utilize this tool to organize and record their tree stewardship efforts. \nThis event will be held at the St. John’s Recreation Center (1251 Prospect Place) in Brooklyn. Register here.
URL:https://opendataweek.nyc/event/maples-oaks-and-more-the-nyc-tree-map-as-a-stewardship-tool/
LOCATION:St. John’s Recreation Center\, 1251 Prospect Pl\, Brooklyn\, NY\, 11213
CATEGORIES:Class / Training
ATTACH;FMTTYPE=image/png:https://opendataweek.nyc/wp-content/uploads/2026/03/generic-event-updated.png
GEO:40.6739470096;-73.9343345426
X-APPLE-STRUCTURED-LOCATION;VALUE=URI;X-ADDRESS=St. John’s Recreation Center 1251 Prospect Pl Brooklyn NY 11213;X-APPLE-RADIUS=500;X-TITLE=1251 Prospect Pl:geo:-73.9343345426,40.6739470096
END:VEVENT
END:VCALENDAR