BEGIN:VCALENDAR
VERSION:2.0
PRODID:-//NYC Open Data Week - ECPv6.15.20//NONSGML v1.0//EN
CALSCALE:GREGORIAN
METHOD:PUBLISH
X-WR-CALNAME:NYC Open Data Week
X-ORIGINAL-URL:https://opendataweek.nyc
X-WR-CALDESC:Events for NYC Open Data Week
REFRESH-INTERVAL;VALUE=DURATION:PT1H
X-Robots-Tag:noindex
X-PUBLISHED-TTL:PT1H
BEGIN:VTIMEZONE
TZID:America/New_York
BEGIN:DAYLIGHT
TZOFFSETFROM:-0500
TZOFFSETTO:-0400
TZNAME:EDT
DTSTART:20250309T070000
END:DAYLIGHT
BEGIN:STANDARD
TZOFFSETFROM:-0400
TZOFFSETTO:-0500
TZNAME:EST
DTSTART:20251102T060000
END:STANDARD
BEGIN:DAYLIGHT
TZOFFSETFROM:-0500
TZOFFSETTO:-0400
TZNAME:EDT
DTSTART:20260308T070000
END:DAYLIGHT
BEGIN:STANDARD
TZOFFSETFROM:-0400
TZOFFSETTO:-0500
TZNAME:EST
DTSTART:20261101T060000
END:STANDARD
BEGIN:DAYLIGHT
TZOFFSETFROM:-0500
TZOFFSETTO:-0400
TZNAME:EDT
DTSTART:20270314T070000
END:DAYLIGHT
BEGIN:STANDARD
TZOFFSETFROM:-0400
TZOFFSETTO:-0500
TZNAME:EST
DTSTART:20271107T060000
END:STANDARD
END:VTIMEZONE
BEGIN:VEVENT
DTSTART;TZID=America/New_York:20260320T090000
DTEND;TZID=America/New_York:20260320T170000
DTSTAMP:20260424T112920
CREATED:20260307T142356Z
LAST-MODIFIED:20260316T135159Z
UID:10001931-1773997200-1774026000@opendataweek.nyc
SUMMARY:Keeping It Urban: Art\, Tech\, Collective
DESCRIPTION:Keeping It Urban is a one-day summit\, kicking off NYC Open Data Week on Friday\, March 20th at Cornell Tech. It’s an ode to the diversity and abundance of technology and culture born only from the density of NYC. \nThis event was born from frustration with the top-down silos we kept seeing: urban tech talks that center on infrastructure and zoning\, and AI conversations entirely removed from the people and becoming doomsday narratives. None of it actually acknowledges the creative artists\, open-sourced solutions\, or the human flourishing that drives the true economic engine of NYC! \nSo\, we’ve curated a full day of 3 stacked panels\, 4+ artist showcases\, and 5+ startup pitches featuring Streetlife Ventures\, Spotify\, MIT Media Lab\, New York City Council\, Sidewalk Labs (Part of Google)\, Everywhere Ventures\, Fauna Robotics\, Backslash Artists\, and more. \nCelebrating the playful\, inventive tech being built right now and right here at Cornell Tech & New York City! \nTickets on Luma. More info keepingiturban.com.  \nThis event will be held at the Tata Innovation Center\, Studio 141\, 11 E Loop Rd\, New York\, NY 10044.
URL:https://opendataweek.nyc/event/keeping-it-urban-art-tech-collective/
LOCATION:Tata Innovation Center\, Cornell Tech\, 11 E Loop Rd\, Studio 141\, New York\, NY\, 10044\, United States
CATEGORIES:Exhibition
ATTACH;FMTTYPE=image/png:https://opendataweek.nyc/wp-content/uploads/2026/03/KIU_floppydisk-scaled.png
GEO:40.755172572;-73.9552584685
X-APPLE-STRUCTURED-LOCATION;VALUE=URI;X-ADDRESS=Tata Innovation Center Cornell Tech 11 E Loop Rd Studio 141 New York NY 10044 United States;X-APPLE-RADIUS=500;X-TITLE=11 E Loop Rd\, Studio 141:geo:-73.9552584685,40.755172572
END:VEVENT
END:VCALENDAR