BEGIN:VCALENDAR
VERSION:2.0
PRODID:-//NYC Open Data Week - ECPv6.15.20//NONSGML v1.0//EN
CALSCALE:GREGORIAN
METHOD:PUBLISH
X-ORIGINAL-URL:https://opendataweek.nyc
X-WR-CALDESC:Events for NYC Open Data Week
REFRESH-INTERVAL;VALUE=DURATION:PT1H
X-Robots-Tag:noindex
X-PUBLISHED-TTL:PT1H
BEGIN:VTIMEZONE
TZID:America/New_York
BEGIN:DAYLIGHT
TZOFFSETFROM:-0500
TZOFFSETTO:-0400
TZNAME:EDT
DTSTART:20250309T070000
END:DAYLIGHT
BEGIN:STANDARD
TZOFFSETFROM:-0400
TZOFFSETTO:-0500
TZNAME:EST
DTSTART:20251102T060000
END:STANDARD
BEGIN:DAYLIGHT
TZOFFSETFROM:-0500
TZOFFSETTO:-0400
TZNAME:EDT
DTSTART:20260308T070000
END:DAYLIGHT
BEGIN:STANDARD
TZOFFSETFROM:-0400
TZOFFSETTO:-0500
TZNAME:EST
DTSTART:20261101T060000
END:STANDARD
BEGIN:DAYLIGHT
TZOFFSETFROM:-0500
TZOFFSETTO:-0400
TZNAME:EDT
DTSTART:20270314T070000
END:DAYLIGHT
BEGIN:STANDARD
TZOFFSETFROM:-0400
TZOFFSETTO:-0500
TZNAME:EST
DTSTART:20271107T060000
END:STANDARD
END:VTIMEZONE
BEGIN:VEVENT
DTSTART;TZID=America/New_York:20260329T160000
DTEND;TZID=America/New_York:20260329T173000
DTSTAMP:20260424T212713
CREATED:20260313T194549Z
LAST-MODIFIED:20260330T151239Z
UID:10001920-1774800000-1774805400@opendataweek.nyc
SUMMARY:Echo{logies}\, a Panel Discussion with the DxD Artists
DESCRIPTION:Join us for a panel related to Echo{logies}\, the 2026 exhibition of  Data Through Design\, the annual data art exhibition featuring works that creatively analyze\, interpret\, and interrogate data made available in NYC’s Open Data Portal. For more information on the artists participating and registration\, visit BRIC. \nRSVP here
URL:https://opendataweek.nyc/event/echologies-a-panel-discussion-with-the-dxd-artist/
LOCATION:BRIC\, 647 Fulton Street\, Brooklyn\, New York\, 11217\, United States of America
CATEGORIES:Panel Discussion
ATTACH;FMTTYPE=image/png:https://opendataweek.nyc/wp-content/uploads/2026/03/echologies.png
GEO:40.6901461332;-73.978314068
X-APPLE-STRUCTURED-LOCATION;VALUE=URI;X-ADDRESS=BRIC 647 Fulton Street Brooklyn New York 11217 United States of America;X-APPLE-RADIUS=500;X-TITLE=647 Fulton Street:geo:-73.978314068,40.6901461332
END:VEVENT
BEGIN:VEVENT
DTSTART;TZID=America/New_York:20260327T160000
DTEND;TZID=America/New_York:20260327T190000
DTSTAMP:20260424T212713
CREATED:20260302T221326Z
LAST-MODIFIED:20260311T160435Z
UID:10001880-1774627200-1774638000@opendataweek.nyc
SUMMARY:Leveraging Open Data to Build Safe\, Just\, and Thriving Communities
DESCRIPTION:The Center for Urban Science and Progress (CUSP) at the NYU Tandon School of Engineering will host an evening convening from 4:00–6:00 PM\, followed by a light reception from 6:00–7:00 PM. The event brings together students\, researchers\, public-sector leaders\, and community partners to explore how open urban data informs public decision-making in New York City. The program highlights applied work at the intersection of data science\, governance\, and community outcomes\, with a focus on how publicly available datasets are interpreted and translated into policy and practice. \nThe formal program begins with remarks from CUSP leadership\, followed by 10-minute lightning talks from students and community collaborators showcasing projects grounded in NYC Open Data. These presentations demonstrate how datasets related to public safety\, housing\, health\, and civic accountability are analyzed\, contextualized\, and communicated. The evening continues with a moderated panel discussion led by CUSP’s Debanjan Roychoudhury. Speakers include Alaa Moussawi\, Chief Data Scientist for the New York City Council\, and Sandhya Kajeepeta\, Senior Researcher and Statistician at the Legal Defense Fund’s Thurgood Marshall Institute. The discussion will examine how open data shapes public narratives\, informs institutional decision-making\, and supports cross-sector collaboration. \nA reception will immediately follow the panel\, offering space for informal dialogue\, networking\, and continued cross-sector exchange. The convening is open to participants of all technical backgrounds and emphasizes thoughtful analysis\, responsible data use\, and real-world application within NYC governance systems.
URL:https://opendataweek.nyc/event/leveraging-open-data-to-build-safe-just-and-thriving-communities/
LOCATION:NYU CUSP – 370 Jay Street\, 370 Jay Street\, Brooklyn\, NY\, 11201
CATEGORIES:Panel Discussion
ATTACH;FMTTYPE=image/png:https://opendataweek.nyc/wp-content/uploads/2026/03/generic-event-updated.png
GEO:40.6929307846;-73.9874549211
X-APPLE-STRUCTURED-LOCATION;VALUE=URI;X-ADDRESS=NYU CUSP – 370 Jay Street 370 Jay Street Brooklyn NY 11201;X-APPLE-RADIUS=500;X-TITLE=370 Jay Street:geo:-73.9874549211,40.6929307846
END:VEVENT
BEGIN:VEVENT
DTSTART;TZID=America/New_York:20260325T110000
DTEND;TZID=America/New_York:20260325T120000
DTSTAMP:20260424T212713
CREATED:20260313T211846Z
LAST-MODIFIED:20260313T211846Z
UID:10001951-1774436400-1774440000@opendataweek.nyc
SUMMARY:Build It\, Use It\, Own It: Making Language Data Work For You
DESCRIPTION:Move from language access awareness to action in this session hosted by the Mayor’s Office of Immigrant Affairs\, featuring the Department of City Planning (DCP) and CLEAR Global. \nSee demonstrations of DCP’s language data tools—both existing resources and new tools in development—and learn how to put language data to use. Discover CLEAR Global’s innovative approaches to building language datasets for humanitarian contexts and crisis response. \nBuilding on the 2025 Open Data Week session “Decoding NYC’s Linguistic Diversity\,” this session equips you with practical frameworks for collecting\, analyzing\, and applying language data strategically. Perfect for anyone ready to make evidence-based decisions about language access.
URL:https://opendataweek.nyc/event/build-it-use-it-own-it-making-language-data-work-for-you/
CATEGORIES:Panel Discussion
ATTACH;FMTTYPE=image/png:https://opendataweek.nyc/wp-content/uploads/2026/03/generic-event-updated.png
LOCATION:https://opendataweek.nyc/event/build-it-use-it-own-it-making-language-data-work-for-you/
END:VEVENT
BEGIN:VEVENT
DTSTART;TZID=America/New_York:20260324T180000
DTEND;TZID=America/New_York:20260324T200000
DTSTAMP:20260424T212713
CREATED:20260309T141803Z
LAST-MODIFIED:20260309T141803Z
UID:10001929-1774375200-1774382400@opendataweek.nyc
SUMMARY:From Open Data to Data Commons: Building Civic Infrastructure for the Culture and Arts Sector
DESCRIPTION:What if the problem isn’t a lack of data\, but a lack of infrastructure to share and reuse it responsibly over time? \nWhen working with data\, we often treat collection as the end of the story—focusing on efficient ways to acquire and store it—while neglecting the data’s longer life: making it findable\, interpretable\, re-usable\, and actionable beyond its original purpose. Responsible reuse depends not just on technical infrastructure but also on shared practice. \nWith the Culture Data Commons as a starting point\, join us in conversation with Stefaan Verhulst\, co-founder of the GovLab and The Data Tank\, on responsible data reuse and the opportunities of data stewardship through collective practices and participatory governance. \nOrganized by the Culture & Arts Policy Institute and hosted by BRIC\, this session\, part of Open Data Week 2026\,  invites cultural leaders\, researchers\, technologists\, policymakers\, and funders to rethink data governance in the arts and to consider how collective data infrastructure can transform information into shared power.  \nRSVP here \nABOUT THE CULTURE DATA COMMONS\nDeveloped by the Culture & Arts Policy Institute\, the Culture Data Commons (The Commons) is a collectively stewarded shared data space for the culture and arts sector. It brings together datasets\, tools\, and governance practices to enable organizations to share\, access\, and reuse information responsibly. More than a portal\, it is a collaborative framework that centers participation\, transparency\, and collective decision-making in how culture data is stewarded and applied.
URL:https://opendataweek.nyc/event/from-open-data-to-data-commons-building-civic-infrastructure-for-the-culture-and-arts-sector/
LOCATION:BRIC\, 647 Fulton Street\, Brooklyn\, New York\, 11217\, United States of America
CATEGORIES:Panel Discussion
ATTACH;FMTTYPE=image/png:https://opendataweek.nyc/wp-content/uploads/2026/03/From-Open-Data-to-Data-Commons-Building-Civic-Infrastructure-for-the-Cultural-Sector-PANEL-SESSION-TUESDAY-MARCH-24-6-PM-to-8-PM-BRIC-HOUSE-647-Fulton-St-Brooklyn-NY-11217-Twitter-Post-3.png
GEO:40.6901461332;-73.978314068
X-APPLE-STRUCTURED-LOCATION;VALUE=URI;X-ADDRESS=BRIC 647 Fulton Street Brooklyn New York 11217 United States of America;X-APPLE-RADIUS=500;X-TITLE=647 Fulton Street:geo:-73.978314068,40.6901461332
END:VEVENT
BEGIN:VEVENT
DTSTART;TZID=America/New_York:20260324T180000
DTEND;TZID=America/New_York:20260324T190000
DTSTAMP:20260424T212713
CREATED:20260225T170745Z
LAST-MODIFIED:20260313T231840Z
UID:10001848-1774375200-1774378800@opendataweek.nyc
SUMMARY:Forging Links Between Public Scholarship\, Civic Tech\, and Open Data: A Showcase of CUNY Public Scholarship Practice Space (PS2) Projects
DESCRIPTION:Public scholarship has been a core value and practice of the CUNY Graduate Center since its founding 1961\, and long part of the culture of CUNY\, the largest urban public university in the United States. Increasingly\, public scholars committed to creating and disseminating knowledge in service of the public good work with open data in their projects\, and disseminate their work in open scholarly publishing platforms\, curate and release public datasets\, and engage in digital media to share their work for public audiences. \nThis interactive panel discussion will provide an overview of how public scholarship\, scholar activism\, and open data have many existing links in projects supported by The Public Scholarship Practice Space (PS2) at The Center for the Humanities at The CUNY Graduate Center. It will then showcase and reflect on several recent projects completed by graduate students at CUNY whose work focused on public scholarship\, activism\, arts-based methods\, digital equity\, and civic tech. Three of the identified presenters were 2025 Early Research Initiative/Public Scholarship Practice Space 2025 Summer Research Fellows and two presenters were Social Practice CUNY Fellows. \n– Ian G. Williams will share his research on digital literacy\, civic tech networks\, and democracy through participation in The Impacts of Civic Technology Conference (TICTeC) in Mechelen\, Belgium in July 2025\, experiments in creating pedagogical tools bridging open data literacy and data justice in a social work classroom while examining 311 complaints about homelessness\, and involvement with the NYC Public Interest Tech (PIT) Pop-Up this fall. Read Ian’s write-up on summer activities here. \n– Seon Britton will share his research on community technology organizations (CTOs) working to advance digital equity and inclusion in New York City through broadband internet service provision\, including fieldwork with Silicon Harlem and NYC Mesh. His work argues that CTOs are a new type of organization that can help in providing internet access to currently underserved communities. Read Seon’s write-up on summer activities here. \n– Jaclyn Reyes and Ezra Undag will share their work with The UKAI Initiative\, a transnational collaboration of artists\, cultural workers and researchers in the US and in the Philippines that aims to advance environmental and climate justice through art\, culture and community-building. The UKAI Initiative has several projects; this presentation will focus on the project\, “Transnational Clothing Pathways.” Read more about The UKAI Initiative here.
URL:https://opendataweek.nyc/event/forging-links-between-public-scholarship-civic-tech-and-open-data-a-showcase-of-cuny-public-scholarship-practice-space-ps2-projects/
CATEGORIES:Panel Discussion
ATTACH;FMTTYPE=image/png:https://opendataweek.nyc/wp-content/uploads/2026/03/generic-event-updated.png
LOCATION:https://opendataweek.nyc/event/forging-links-between-public-scholarship-civic-tech-and-open-data-a-showcase-of-cuny-public-scholarship-practice-space-ps2-projects/
END:VEVENT
BEGIN:VEVENT
DTSTART;TZID=America/New_York:20260324T130000
DTEND;TZID=America/New_York:20260324T140000
DTSTAMP:20260424T212713
CREATED:20260307T141928Z
LAST-MODIFIED:20260311T154718Z
UID:10001922-1774357200-1774360800@opendataweek.nyc
SUMMARY:NYC Agency Maps\, Tools\, & Geospatial Data for 2026
DESCRIPTION:New York City agencies create and publish a huge volume of geospatial data each year. They use Geographic Information Systems (GIS) – computer-based tools to store\, visualize\, and analyze this geographic data. This panel will review publicly-available tools and datasets\, discuss the state of GIS technology in the city\, and consider how the City uses geospatial data to serve NYC residents.  Join this conversation with agency GIS leaders about new maps & tools\, geospatial data\, and initiatives for 2026. \nModerator\nLee Ilan\, NYC Mayor’s Office of Environmental Remediation \nPanelists\nJosh Friedman\, NYC Emergency Management\nMatt Croswell\, NYC Department of City Planning\nAdam Barin\, NYC Mayor’s Office of Operations
URL:https://opendataweek.nyc/event/nyc-agency-maps-tools-geospatial-data-for-2026/
CATEGORIES:Panel Discussion
ATTACH;FMTTYPE=image/png:https://opendataweek.nyc/wp-content/uploads/2026/03/generic-event-updated.png
LOCATION:https://opendataweek.nyc/event/nyc-agency-maps-tools-geospatial-data-for-2026/
END:VEVENT
BEGIN:VEVENT
DTSTART;TZID=America/New_York:20260323T110000
DTEND;TZID=America/New_York:20260323T120000
DTSTAMP:20260424T212713
CREATED:20260227T173516Z
LAST-MODIFIED:20260316T193918Z
UID:10001866-1774263600-1774267200@opendataweek.nyc
SUMMARY:Advancing Climate Compliance: How Data Informs & Challenges Building Retrofits and Decarbonization (Local Law 97)
DESCRIPTION:Local Law 97 of 2019 is one of the nation’s most ambitious climate laws\, setting carbon emissions limits for most large buildings across New York City. As the first major compliance deadlines take effect\, data has become a central driver—shaping how agencies\, nonprofits\, and building owners understand performance\, identify risks\, and plan for long-term decarbonization. \nThis session brings together experts from city agencies and the private sector partners to explore how open data and public datasets are transforming the city’s approach to building emissions. Speakers from NYC Housing Preservation & Development (HPD)\, the Department of Buildings (DOB)\, the Mayor’s Office of Climate & Environmental Justice (MOCEJ)\, and Cadence OneFive will share how their organizations use data to implement the law\, monitor energy usage\, model carbon impacts\, develop compliance services\, and design equitable climate strategies. \nProfessionals\, civic technologists\, and the general public who are interested in the role of data in climate resiliency\, building decarbonization\, affordable housing\, and climate policy will most benefit from attending this session.
URL:https://opendataweek.nyc/event/advancing-climate-compliance-how-data-informs-challenges-building-retrofits-and-decarbonization-local-law-97/
CATEGORIES:Panel Discussion
ATTACH;FMTTYPE=image/jpeg:https://opendataweek.nyc/wp-content/uploads/2026/02/Open-Data-Week-2026-LL97.jpg
LOCATION:https://opendataweek.nyc/event/advancing-climate-compliance-how-data-informs-challenges-building-retrofits-and-decarbonization-local-law-97/
END:VEVENT
END:VCALENDAR